BEGIN:VCALENDAR
VERSION:2.0
PRODID:-//wp-events-plugin.com//7.2.3.1//EN
TZID:Europe/Paris
X-WR-TIMEZONE:Europe/Paris
BEGIN:VEVENT
UID:5@bergerac-tcg.fr
DTSTART;TZID=Europe/Paris:20251205T190000
DTEND;TZID=Europe/Paris:20260724T000000
DTSTAMP:20251212T194439Z
URL:https://bergerac-tcg.fr/events/friday-night-magic-guyajeux/
SUMMARY:Friday Night Magic - Guyajeux
DESCRIPTION:
CATEGORIES:Magic: The Gathering
LOCATION:Guyajeux - Bergerac\, 22 rue Saint James\, Bergerac\, 24100\, Fran
 ce
X-APPLE-STRUCTURED-LOCATION;VALUE=URI;X-ADDRESS=22 rue Saint James\, Berger
 ac\, 24100\, France;X-APPLE-RADIUS=100;X-TITLE=Guyajeux - Bergerac:geo:0,0
END:VEVENT
BEGIN:VTIMEZONE
TZID:Europe/Paris
X-LIC-LOCATION:Europe/Paris
BEGIN:STANDARD
DTSTART:20251026T020000
TZOFFSETFROM:+0200
TZOFFSETTO:+0100
TZNAME:CET
END:STANDARD
BEGIN:DAYLIGHT
DTSTART:20260329T030000
TZOFFSETFROM:+0100
TZOFFSETTO:+0200
TZNAME:CEST
END:DAYLIGHT
END:VTIMEZONE
END:VCALENDAR