BEGIN:VCALENDAR
VERSION:2.0
PRODID:-//wp-events-plugin.com//7.2.3.1//EN
TZID:Europe/Paris
X-WR-TIMEZONE:Europe/Paris
BEGIN:VEVENT
UID:3@bergerac-tcg.fr
DTSTART;TZID=Europe/Paris:20260117T140000
DTEND;TZID=Europe/Paris:20260117T180000
DTSTAMP:20251203T110107Z
URL:https://bergerac-tcg.fr/events/the-goat-01-26/
SUMMARY:The GOAT
DESCRIPTION:🏆 The GOAT : Le tournoi Yu-Gi-Oh! TCG ultime arrive le 17 ja
 nvier 2026 !\n\n\nPréparez vos decks\, affûtez vos stratégies : le tour
 noi le plus attendu de l’année est de retour pour couronner le meilleur
  Dueliste !\n\nLe 17 janvier 2026 marquera une date historique pour la com
 munauté Yu-Gi-Oh! TCG en France : le lancement de The GOAT\, un tournoi d
 ’envergure conçu pour rassembler les joueurs les plus talentueux et pas
 sionnés. Que vous soyez un vétéran des terrains de duel ou un nouveau v
 enu déterminé à faire vos preuves\, cet événement promet des affronte
 ments épiques et une ambiance inoubliable.\n\nSerez-vous la meilleure ch
 èvre de Bergerac ?\n📅 Date et lieu\n\n\n 	Quand ? Samedi 17 janvier 20
 26\, à partir de 14h00.\n 	Où ? Restaurant Au Palais – Bergerac\n\n
 🎯 Format et règles\n\n\n 	Format : GOAT Format\n 	Structure : Ronde Su
 isse\n 	Entrée : Au tarif défiant toutes concurrences de 0€\n 	Lots : 
 Des lots à la hauteur du prix d'entrée !\n 	Règles : Proxy autorisés s
 ans limite\, pas de decks pro construisez vos propres decks\, toutes les c
 artes sorties jusqu'au 31/12/2005 sont autorisées\, Ban liste officielle 
 du 01/09/2005\n\n🌟 Pourquoi participer ?\n\n\n 	Une compétition de hau
 t niveau : Affrontez les meilleurs joueurs de Bergerac et mesurez-vous à 
 des stratégies variées.\n 	Une communauté passionnée : Rencontrez des 
 joueurs partageant votre passion\, échangez des conseils et des cartes.\n
 \n📢 Comment s’inscrire ?\n\n\n 	Pré-inscription : Inscrivez-vous via
  https://bergerac-tcg.fr/events/the-goat-01-26/.\n 	Places limitées : Ne 
 tardez pas\, les inscriptions fermeront le 10/01/2026.\n\n🎤 Témoignage
  \n\n\n« The GOAT\, c’est l’occasion de prouver que votre deck est 
 le meilleur\, mais aussi de célébrer l’esprit du jeu. On attend des du
 els intenses et une super ambiance ! » — La Chèvre\n\n&nbsp\;\n\nThe 
 GOAT n’est pas qu’un tournoi\, c’est une expérience à ne pas manqu
 er pour tous les fans de Yu-Gi-Oh! TCG. Que vous visiez la victoire ou sim
 plement l’aventure\, ce 17 janvier 2026 sera une journée mémorable. Ê
 tes-vous prêt à entrer dans la légende ?\n\n
CATEGORIES:Yu-Gi-Oh
LOCATION:Restaurant Au Palais\, 81 rue Neuve d'Argenson\, Bergerac\, 24100\
 , France
X-APPLE-STRUCTURED-LOCATION;VALUE=URI;X-ADDRESS=81 rue Neuve d'Argenson\, B
 ergerac\, 24100\, France;X-APPLE-RADIUS=100;X-TITLE=Restaurant Au Palais:g
 eo:0,0
END:VEVENT
BEGIN:VTIMEZONE
TZID:Europe/Paris
X-LIC-LOCATION:Europe/Paris
BEGIN:STANDARD
DTSTART:20251026T020000
TZOFFSETFROM:+0200
TZOFFSETTO:+0100
TZNAME:CET
END:STANDARD
END:VTIMEZONE
END:VCALENDAR