BEGIN:VCALENDAR
VERSION:2.0
PRODID:-//wp-events-plugin.com//7.2.3.1//EN
TZID:Europe/Paris
X-WR-TIMEZONE:Europe/Paris
BEGIN:VEVENT
UID:4@bergerac-tcg.fr
DTSTART;TZID=Europe/Paris:20251227T110000
DTEND;TZID=Europe/Paris:20251227T200000
DTSTAMP:20251225T194647Z
URL:https://bergerac-tcg.fr/events/tournoi-yu-gi-oh-tcg-noel-2025/
SUMMARY:🎄✨ Tournoi Yu-Gi-Oh! TCG Spécial Noël – Bergerac\, 27 déc
 embre 2025 ✨🎄
DESCRIPTION:&nbsp\;\nPréparez vos decks et vos listes de vœux : un tourno
 i Yu-Gi-Oh! TCG spécial Noël arrive à Bergerac !\n\n\n 	Quand ? 📅 Sa
 medi 27 décembre 2025\n 	⏰ Ouverture des portes à 11h\n 	Où ? 📍 Re
 staurant Au Palais\, 81 rue Neuve d'Argenson\, 24100 Bergerac\n\n\n\n\nUn 
 tournoi festif pour clore l’année en beauté !\nÀ l’approche des fê
 tes\, la communauté Yu-Gi-Oh! de Bergerac se réunit pour un tournoi spé
 cial Noël\, ouvert à tous les duellistes\, qu’ils soient débutants ou
  confirmés. Venez partager votre passion\, affronter d’autres joueurs e
 t peut-être repartir avec des lots exclusifs !\n\n\n\n\nAu programme :\n\
 n 	🎁 Lots à gagner : Deck méta (deck list) d'une valeur de 300€\, D
 isplay\, Boosters\, et bien plus !\n 	🎅 Ambiance chaleureuse : Décorat
 ions de Noël\, musique festive et surprises tout au long de l’après-mi
 di.\n 	💰 Frais d’inscription : 30€\n\n\n\n\nComment s’inscrire ?\
 nLes places sont limitées\, alors ne tardez pas ! 📩\n\n\n 	Inscription
 s avant le 25 décembre 2025 via : Guyajeux et Berjeucartes ou via le form
 ulaire d'inscription sur ce site.\n 	Ou directement sur place le jour J (d
 ans la limite des places disponibles).\n\n\n\n\nRègles et infos pratiques
  :\n\n 	Deck construction : Respectez la liste des cartes interdites/limit
 ées en vigueur au 27/12/2025.\n 	Matériel : Apportez votre deck\, vos ac
 cessoires (sleeves\, jetons\, etc.) et votre bonne humeur !\n 	Règlement 
 : Règles de tournoi de Konami et code de bonne conduite des joueurs.\n\n\
 n\n\nPourquoi participer ?\n\n 	Rencontrer d’autres passionnés dans une
  ambiance conviviale.\n 	Tester votre deck avant les grands tournois de 20
 26.\n 	Repartir avec des souvenirs (et peut-être des cartes rares !).\n\n
 \n\n❄️ Un tournoi où l’esprit de Noël rencontre l’esprit du duel
  !\nÀ très vite sur le terrain de duel\, et joyeuses fêtes à tous !\n\
 n\n\nOrganisateur : Pierre\nPartenaires : Guyajeux (22 rue st james) et Be
 rjeucartes (9 Place Malbec)\n&nbsp\;\n\n 
CATEGORIES:Yu-Gi-Oh
LOCATION:Restaurant Au Palais\, 81 rue Neuve d'Argenson\, Bergerac\, 24100\
 , France
X-APPLE-STRUCTURED-LOCATION;VALUE=URI;X-ADDRESS=81 rue Neuve d'Argenson\, B
 ergerac\, 24100\, France;X-APPLE-RADIUS=100;X-TITLE=Restaurant Au Palais:g
 eo:0,0
END:VEVENT
BEGIN:VTIMEZONE
TZID:Europe/Paris
X-LIC-LOCATION:Europe/Paris
BEGIN:STANDARD
DTSTART:20251026T020000
TZOFFSETFROM:+0200
TZOFFSETTO:+0100
TZNAME:CET
END:STANDARD
END:VTIMEZONE
END:VCALENDAR